BEGIN:VCALENDAR
VERSION:2.0
PRODID:-//artistsguildunlimited.com - ECPv6.15.20//NONSGML v1.0//EN
CALSCALE:GREGORIAN
METHOD:PUBLISH
X-WR-CALNAME:artistsguildunlimited.com
X-ORIGINAL-URL:https://artistsguildunlimited.com
X-WR-CALDESC:Events for artistsguildunlimited.com
REFRESH-INTERVAL;VALUE=DURATION:PT1H
X-Robots-Tag:noindex
X-PUBLISHED-TTL:PT1H
BEGIN:VTIMEZONE
TZID:UTC
BEGIN:STANDARD
TZOFFSETFROM:+0000
TZOFFSETTO:+0000
TZNAME:UTC
DTSTART:20240101T000000
END:STANDARD
END:VTIMEZONE
BEGIN:VEVENT
DTSTART;VALUE=DATE:20250812
DTEND;VALUE=DATE:20250928
DTSTAMP:20260423T205937
CREATED:20250812T170302Z
LAST-MODIFIED:20250812T170302Z
UID:2102-1754956800-1759017599@artistsguildunlimited.com
SUMMARY:Labor Day Show and Sale 2025
DESCRIPTION:You can download the form for the show on our registration page.
URL:https://artistsguildunlimited.com/event/labor-day-show-and-sale-2025/
CATEGORIES:Art Gallery Events
END:VEVENT
END:VCALENDAR